Workbook

Sheet Sheet1
A1: 长治市屯留区2023年公开招聘司法协理员综合成绩及体检人员名单
A2: 序号 | B2: 报考岗位 | C2: 姓名 | D2: 准考证号 | E2: 笔试成绩 | F2: 笔试权重60% | G2: 面试成绩 | H2: 面试权重40% | I2: 综合成绩 | J2: 综合排名 | K2: 备注
A3: 1 | B3: 01 | C3: 王翔 | D3: 14042410305 | E3: 76.5 | F3: =ROUND(E3*0.6,2) -> 45.9 | G3: =[1]面试成绩公示版!E3 -> 83.2 | H3: =ROUND(G3*0.4,2) -> 33.28 | I3: =F3+H3 -> 79.18 | J3: 1 | K3: 进入体检环节
A4: 2 | B4: 01 | C4: 朱晓栋 | D4: 14042411001 | E4: 74.8 | F4: =ROUND(E4*0.6,2) -> 44.88 | G4: =[1]面试成绩公示版!E4 -> 82.44 | H4: =ROUND(G4*0.4,2) -> 32.98 | I4: =F4+H4 -> 77.86 | J4: 2 | K4: 进入体检环节
A5: 3 | B5: 01 | C5: 赵亮 | D5: 14042410823 | E5: 72 | F5: =ROUND(E5*0.6,2) -> 43.2 | G5: =[1]面试成绩公示版!E5 -> 84.4 | H5: =ROUND(G5*0.4,2) -> 33.76 | I5: =F5+H5 -> 76.96 | J5: 3 | K5: 进入体检环节
A6: 4 | B6: 01 | C6: 冯永恒 | D6: 14042410130 | E6: 70.2 | F6: =ROUND(E6*0.6,2) -> 42.12 | G6: =[1]面试成绩公示版!E6 -> 82.26 | H6: =ROUND(G6*0.4,2) -> 32.9 | I6: =F6+H6 -> 75.02 | J6: 4 | K6: 进入体检环节
A7: 5 | B7: 01 | C7: 李帅 | D7: 14042410526 | E7: 69.4 | F7: =ROUND(E7*0.6,2) -> 41.64 | G7: =[1]面试成绩公示版!E7 -> 82.94 | H7: =ROUND(G7*0.4,2) -> 33.18 | I7: =F7+H7 -> 74.82 | J7: 5 | K7: 进入体检环节
A8: 6 | B8: 01 | C8: 杨亚军 | D8: 14042410704 | E8: 67.2 | F8: =ROUND(E8*0.6,2) -> 40.32 | G8: =[1]面试成绩公示版!E10 -> 84.08 | H8: =ROUND(G8*0.4,2) -> 33.63 | I8: =F8+H8 -> 73.95 | J8: 6 | K8: 进入体检环节
A9: 7 | B9: 01 | C9: 陈泽鑫 | D9: 14042410918 | E9: 67.3 | F9: =ROUND(E9*0.6,2) -> 40.38 | G9: =[1]面试成绩公示版!E9 -> 83.38 | H9: =ROUND(G9*0.4,2) -> 33.35 | I9: =F9+H9 -> 73.73 | J9: 7
A10: 8 | B10: 01 | C10: 李进 | D10: 14042410523 | E10: 67 | F10: =ROUND(E10*0.6,2) -> 40.2 | G10: =[1]面试成绩公示版!E11 -> 82.82 | H10: =ROUND(G10*0.4,2) -> 33.13 | I10: =F10+H10 -> 73.33 | J10: 8
A11: 9 | B11: 01 | C11: 张宁波 | D11: 14042411030 | E11: 65.4 | F11: =ROUND(E11*0.6,2) -> 39.24 | G11: =[1]面试成绩公示版!E14 -> 83.56 | H11: =ROUND(G11*0.4,2) -> 33.42 | I11: =F11+H11 -> 72.66 | J11: 9
A12: 10 | B12: 01 | C12: 周松杰 | D12: 14042411130 | E12: 65.2 | F12: =ROUND(E12*0.6,2) -> 39.12 | G12: =[1]面试成绩公示版!E16 -> 83.66 | H12: =ROUND(G12*0.4,2) -> 33.46 | I12: =F12+H12 -> 72.58 | J12: 10
A13: 11 | B13: 01 | C13: 魏泽源 | D13: 14042410230 | E13: 65.4 | F13: =ROUND(E13*0.6,2) -> 39.24 | G13: =[1]面试成绩公示版!E13 -> 82.08 | H13: =ROUND(G13*0.4,2) -> 32.83 | I13: =F13+H13 -> 72.07 | J13: 11
A14: 12 | B14: 01 | C14: 常超 | D14: 14042410609 | E14: 64.1 | F14: =ROUND(E14*0.6,2) -> 38.46 | G14: =[1]面试成绩公示版!E18 -> 83.62 | H14: =ROUND(G14*0.4,2) -> 33.45 | I14: =F14+H14 -> 71.91 | J14: 12
A15: 13 | B15: 01 | C15: 张雨 | D15: 14042411024 | E15: 65.2 | F15: =ROUND(E15*0.6,2) -> 39.12 | G15: =[1]面试成绩公示版!E15 -> 81.7 | H15: =ROUND(G15*0.4,2) -> 32.68 | I15: =F15+H15 -> 71.8 | J15: 13
A16: 14 | B16: 01 | C16: 郗雪林 | D16: 14042410607 | E16: 64.4 | F16: =ROUND(E16*0.6,2) -> 38.64 | G16: =[1]面试成绩公示版!E17 -> 82.72 | H16: =ROUND(G16*0.4,2) -> 33.09 | I16: =F16+H16 -> 71.73 | J16: 14
A17: 15 | B17: 01 | C17: 梁常勇 | D17: 14042410709 | E17: 66.2 | F17: =ROUND(E17*0.6,2) -> 39.72 | G17: =[1]面试成绩公示版!E12 -> 74.94 | H17: =ROUND(G17*0.4,2) -> 29.98 | I17: =F17+H17 -> 69.7 | J17: 15
A18: 16 | B18: 01 | C18: 李腾 | D18: 14042410114 | E18: 67.4 | F18: =ROUND(E18*0.6,2) -> 40.44 | G18: =[1]面试成绩公示版!E8 -> 0 | H18: =ROUND(G18*0.4,2) -> 0 | I18: =F18+H18 -> 40.44 | J18: 16
A19: 17 | B19: 02 | C19: 李原驰 | D19: 14042420602 | E19: 77.8 | F19: =ROUND(E19*0.6,2) -> 46.68 | G19: =[1]面试成绩公示版!E19 -> 83.6 | H19: =ROUND(G19*0.4,2) -> 33.44 | I19: =F19+H19 -> 80.12 | J19: 1 | K19: 进入体检环节
A20: 18 | B20: 02 | C20: 贾雨溪 | D20: 14042420917 | E20: 76.2 | F20: =ROUND(E20*0.6,2) -> 45.72 | G20: =[1]面试成绩公示版!E20 -> 83.12 | H20: =ROUND(G20*0.4,2) -> 33.25 | I20: =F20+H20 -> 78.97 | J20: 2 | K20: 进入体检环节
A21: 19 | B21: 02 | C21: 杨佳琪 | D21: 14042420520 | E21: 76 | F21: =ROUND(E21*0.6,2) -> 45.6 | G21: =[1]面试成绩公示版!E21 -> 82.98 | H21: =ROUND(G21*0.4,2) -> 33.19 | I21: =F21+H21 -> 78.79 | J21: 3 | K21: 进入体检环节
A22: 20 | B22: 02 | C22: 王婷 | D22: 14042420312 | E22: 73.6 | F22: =ROUND(E22*0.6,2) -> 44.16 | G22: =[1]面试成绩公示版!E23 -> 82.52 | H22: =ROUND(G22*0.4,2) -> 33.01 | I22: =F22+H22 -> 77.17 | J22: 4 | K22: 进入体检环节
A23: 21 | B23: 02 | C23: 候燕妹 | D23: 14042420910 | E23: 74.3 | F23: =ROUND(E23*0.6,2) -> 44.58 | G23: =[1]面试成绩公示版!E22 -> 81.14 | H23: =ROUND(G23*0.4,2) -> 32.46 | I23: =F23+H23 -> 77.04 | J23: 5 | K23: 进入体检环节
A24: 22 | B24: 02 | C24: 姚瑶 | D24: 14042420310 | E24: 73.1 | F24: =ROUND(E24*0.6,2) -> 43.86 | G24: =[1]面试成绩公示版!E24 -> 82.6 | H24: =ROUND(G24*0.4,2) -> 33.04 | I24: =F24+H24 -> 76.9 | J24: 6
A25: 23 | B25: 02 | C25: 程婷 | D25: 14042420717 | E25: 72.4 | F25: =ROUND(E25*0.6,2) -> 43.44 | G25: =[1]面试成绩公示版!E27 -> 82.8 | H25: =ROUND(G25*0.4,2) -> 33.12 | I25: =F25+H25 -> 76.56 | J25: 7
A26: 24 | B26: 02 | C26: 邓圆圆 | D26: 14042420424 | E26: 72.5 | F26: =ROUND(E26*0.6,2) -> 43.5 | G26: =[1]面试成绩公示版!E26 -> 82.58 | H26: =ROUND(G26*0.4,2) -> 33.03 | I26: =F26+H26 -> 76.53 | J26: 8
A27: 25 | B27: 02 | C27: 宋振芳 | D27: 14042420713 | E27: 72.6 | F27: =ROUND(E27*0.6,2) -> 43.56 | G27: =[1]面试成绩公示版!E25 -> 82.14 | H27: =ROUND(G27*0.4,2) -> 32.86 | I27: =F27+H27 -> 76.42 | J27: 9
A28: 26 | B28: 02 | C28: 李欣欣 | D28: 14042420129 | E28: 71.3 | F28: =ROUND(E28*0.6,2) -> 42.78 | G28: =[1]面试成绩公示版!E31 -> 82.86 | H28: =ROUND(G28*0.4,2) -> 33.14 | I28: =F28+H28 -> 75.92 | J28: 10
A29: 27 | B29: 02 | C29: 陈瑜 | D29: 14042421203 | E29: 71.1 | F29: =ROUND(E29*0.6,2) -> 42.66 | G29: =[1]面试成绩公示版!E32 -> 82.8 | H29: =ROUND(G29*0.4,2) -> 33.12 | I29: =F29+H29 -> 75.78 | J29: 11
A30: 28 | B30: 02 | C30: 王宁 | D30: 14042420502 | E30: 72.2 | F30: =ROUND(E30*0.6,2) -> 43.32 | G30: =[1]面试成绩公示版!E28 -> 80.9 | H30: =ROUND(G30*0.4,2) -> 32.36 | I30: =F30+H30 -> 75.68 | J30: 12
A31: 29 | B31: 02 | C31: 余艾敏 | D31: 14042421022 | E31: 71.6 | F31: =ROUND(E31*0.6,2) -> 42.96 | G31: =[1]面试成绩公示版!E29 -> 0 | H31: =ROUND(G31*0.4,2) -> 0 | I31: =F31+H31 -> 42.96 | J31: 13
A32: 30 | B32: 02 | C32: 张素玲 | D32: 14042420428 | E32: 71.4 | F32: =ROUND(E32*0.6,2) -> 42.84 | G32: =[1]面试成绩公示版!E30 -> 0 | H32: =ROUND(G32*0.4,2) -> 0 | I32: =F32+H32 -> 42.84 | J32: 14

Sheet Sheet2

Sheet Sheet3
